BEGIN:VCALENDAR
VERSION:2.0
PRODID:-// - ECPv6.15.20//NONSGML v1.0//EN
CALSCALE:GREGORIAN
METHOD:PUBLISH
X-ORIGINAL-URL:https://ra-micro-hannover.de
X-WR-CALDESC:Veranstaltungen für 
REFRESH-INTERVAL;VALUE=DURATION:PT1H
X-Robots-Tag:noindex
X-PUBLISHED-TTL:PT1H
BEGIN:VTIMEZONE
TZID:Europe/Berlin
BEGIN:DAYLIGHT
TZOFFSETFROM:+0100
TZOFFSETTO:+0200
TZNAME:CEST
DTSTART:20230326T010000
END:DAYLIGHT
BEGIN:STANDARD
TZOFFSETFROM:+0200
TZOFFSETTO:+0100
TZNAME:CET
DTSTART:20231029T010000
END:STANDARD
BEGIN:DAYLIGHT
TZOFFSETFROM:+0100
TZOFFSETTO:+0200
TZNAME:CEST
DTSTART:20240331T010000
END:DAYLIGHT
BEGIN:STANDARD
TZOFFSETFROM:+0200
TZOFFSETTO:+0100
TZNAME:CET
DTSTART:20241027T010000
END:STANDARD
BEGIN:DAYLIGHT
TZOFFSETFROM:+0100
TZOFFSETTO:+0200
TZNAME:CEST
DTSTART:20250330T010000
END:DAYLIGHT
BEGIN:STANDARD
TZOFFSETFROM:+0200
TZOFFSETTO:+0100
TZNAME:CET
DTSTART:20251026T010000
END:STANDARD
END:VTIMEZONE
BEGIN:VEVENT
DTSTART;TZID=Europe/Berlin:20240905T100000
DTEND;TZID=Europe/Berlin:20240905T130000
DTSTAMP:20260422T105256
CREATED:20230810T124049Z
LAST-MODIFIED:20240603T113405Z
UID:826-1725530400-1725541200@ra-micro-hannover.de
SUMMARY:RA-MICRO Finanzbuchhaltung Grundlagen - Webinar
DESCRIPTION:Erste Schritte in der Finanzbuchhaltung\nAnpassung des Kontenplans und Grundeinstellungen\nAufbau des Aktenkontos\nBuchungen anhand von Kontoauszügen und Kanzleibelegen\nKorrektur- und Stornobuchungen\n\ninklusive Schulungsskript und anschaulichen weiteren Schulungsunterlagen. \n109\,00 € zzgl. MwSt. \n  \nWebinar-Fax-Anmeldung
URL:https://ra-micro-hannover.de/event/ra-micro-finanzbuchhaltung-grundlagen-webinar-2
LOCATION:Niedersachsen
ORGANIZER;CN="RA-MICRO Hannover GmbH":MAILTO:info@rmha.de
END:VEVENT
BEGIN:VEVENT
DTSTART;TZID=Europe/Berlin:20240912T100000
DTEND;TZID=Europe/Berlin:20240912T120000
DTSTAMP:20260422T105256
CREATED:20230821T083154Z
LAST-MODIFIED:20240603T115059Z
UID:840-1726135200-1726142400@ra-micro-hannover.de
SUMMARY:Gebühren & Kosten mit RA-MICRO - Webinar
DESCRIPTION:RVG-Abrechnung\, Kostenfestsetzungsanträge\, sonstige Rechnungstypen\nEntwurf\, Korrekturrechnung\, Vorschussrechnung\nAuslagen erfassen und abrechnen\nmehrere Auftraggeber\, Rechnung teilen\nVerzahnung mit dem Kostenblatt/ Aktenkonto/ Offene Posten\nTextbausteine für die Rechnungen anpassen\nZV-Abrechnung/ Zeithonorar\n\ninklusive Schulungsskript. \n72\,00 € zzgl. MwSt. \nWebinar-Fax-Anmeldung
URL:https://ra-micro-hannover.de/event/gebuehren-kosten-webinar-2
LOCATION:Niedersachsen
ORGANIZER;CN="RA-MICRO Hannover GmbH":MAILTO:info@rmha.de
END:VEVENT
BEGIN:VEVENT
DTSTART;TZID=Europe/Berlin:20240918T140000
DTEND;TZID=Europe/Berlin:20240918T153000
DTSTAMP:20260422T105256
CREATED:20230810T124914Z
LAST-MODIFIED:20240603T115314Z
UID:831-1726668000-1726673400@ra-micro-hannover.de
SUMMARY:Digitale Spracherkennung mit Dragon - Webinar
DESCRIPTION:Spracherkennungsbefehle richtig einsetzen\nneue Wörter hinzufügen\nVokabular erweitern und Erkennungsgenauigkeit erhöhen\neigene Befehle erstellen\nRA-MICRO Textbausteine und sog. Phrasen verwenden\n\ninklusive Schulungsskript. \n54\,00 € zzgl. MwSt. \nWebinar-Fax-Anmeldung
URL:https://ra-micro-hannover.de/event/digitale-spracherkennung-mit-dragon-webinar-3
LOCATION:Niedersachsen
ORGANIZER;CN="RA-MICRO Hannover GmbH":MAILTO:info@rmha.de
END:VEVENT
BEGIN:VEVENT
DTSTART;TZID=Europe/Berlin:20240919T100000
DTEND;TZID=Europe/Berlin:20240919T120000
DTSTAMP:20260422T105256
CREATED:20240229T112225Z
LAST-MODIFIED:20240603T115716Z
UID:906-1726740000-1726747200@ra-micro-hannover.de
SUMMARY:Textbausteine in RA-MICRO (Webinar)
DESCRIPTION:Vorlagen und Textbausteine sinnvoll erstellen und einsetzen. \n\nvon RA-MICRO mitgelieferte Textbausteine anpassen\neigene Textbausteine erstellen und mit Platzhaltern versehen\nStandardtexte ändern und hinzufügen\n\ninklusive Schulungsunterlagen. \n72\,00 € zzgl. MwSt.
URL:https://ra-micro-hannover.de/event/textbausteine-in-ra-micro
LOCATION:Niedersachsen
ORGANIZER;CN="RA-MICRO Hannover GmbH":MAILTO:info@rmha.de
END:VEVENT
END:VCALENDAR