BEGIN:VCALENDAR
VERSION:2.0
PRODID:-// - ECPv6.15.20//NONSGML v1.0//EN
CALSCALE:GREGORIAN
METHOD:PUBLISH
X-ORIGINAL-URL:https://ra-micro-hannover.de
X-WR-CALDESC:Veranstaltungen für 
REFRESH-INTERVAL;VALUE=DURATION:PT1H
X-Robots-Tag:noindex
X-PUBLISHED-TTL:PT1H
BEGIN:VTIMEZONE
TZID:Europe/Berlin
BEGIN:DAYLIGHT
TZOFFSETFROM:+0100
TZOFFSETTO:+0200
TZNAME:CEST
DTSTART:20250330T010000
END:DAYLIGHT
BEGIN:STANDARD
TZOFFSETFROM:+0200
TZOFFSETTO:+0100
TZNAME:CET
DTSTART:20251026T010000
END:STANDARD
BEGIN:DAYLIGHT
TZOFFSETFROM:+0100
TZOFFSETTO:+0200
TZNAME:CEST
DTSTART:20260329T010000
END:DAYLIGHT
BEGIN:STANDARD
TZOFFSETFROM:+0200
TZOFFSETTO:+0100
TZNAME:CET
DTSTART:20261025T010000
END:STANDARD
BEGIN:DAYLIGHT
TZOFFSETFROM:+0100
TZOFFSETTO:+0200
TZNAME:CEST
DTSTART:20270328T010000
END:DAYLIGHT
BEGIN:STANDARD
TZOFFSETFROM:+0200
TZOFFSETTO:+0100
TZNAME:CET
DTSTART:20271031T010000
END:STANDARD
END:VTIMEZONE
BEGIN:VEVENT
DTSTART;TZID=Europe/Berlin:20260421T100000
DTEND;TZID=Europe/Berlin:20260421T130000
DTSTAMP:20260423T110757
CREATED:20250410T132137Z
LAST-MODIFIED:20260407T111255Z
UID:1073-1776765600-1776776400@ra-micro-hannover.de
SUMMARY:RA-MICRO Grundlagen zum Einstieg und Auffrischen
DESCRIPTION:Lernen Sie den sicheren Umgang mit der RA-MICRO Kanzleisoftware anhand anschaulicher Beispielsfälle. \n\nVon der Aktenanlage bis zur Aktenablage\nTextverarbeitung\nFristen und Wiedervorlagen\nRechnungserstellung\n\ninklusive Schulungsskript \n109\,00 € zzgl. MwSt. \nDie Teilnahme ist per Onlinelink oder in Präsenz in unseren Schulungsraum möglich. \nDer Schulungsraum ist mit unseren Schulungslaptops für die Teilnehmer ausgestattet. \n 
URL:https://ra-micro-hannover.de/event/ra-micro-grundlagen-zum-einstieg-und-auffrischen-hybrid-praesenz-und-online
LOCATION:RA-MICRO Hannover GmbH\, Walsroder Str. 305\, Langenhagen\, Niedersachsen\, 30855\, Deutschland
ORGANIZER;CN="RA-MICRO Hannover GmbH":MAILTO:info@rmha.de
END:VEVENT
END:VCALENDAR